BEGIN:VCALENDAR
VERSION:2.0
PRODID:-//wp-events-plugin.com//7.2.3.1//EN
TZID:Europe/Paris
X-WR-TIMEZONE:Europe/Paris
BEGIN:VEVENT
UID:8525@paroissemaromme.fr
DTSTART;TZID=Europe/Paris:20240522T180000
DTEND;TZID=Europe/Paris:20240522T180000
DTSTAMP:20240517T152005Z
URL:https://paroissemaromme.fr/events/reunion-dinformation-et-dinscription
 -a-letoile-pour-le-pelerinage-a-lourdes/
SUMMARY:Réunion d’information et d’inscription à l’Etoile pour le p
 èlerinage à Lourdes
DESCRIPTION:
CATEGORIES:évènements
LOCATION:Etoile\, salle paroissiale\, 38 rue de l'église\, Maromme\, Franc
 e
GEO:49.480555;1.0439016999999922
X-APPLE-STRUCTURED-LOCATION;VALUE=URI;X-ADDRESS=salle paroissiale\, 38 rue 
 de l'église\, Maromme\, France;X-APPLE-RADIUS=100;X-TITLE=Etoile:geo:49.4
 80555,1.0439016999999922
END:VEVENT
BEGIN:VTIMEZONE
TZID:Europe/Paris
X-LIC-LOCATION:Europe/Paris
BEGIN:DAYLIGHT
DTSTART:20240331T030000
TZOFFSETFROM:+0100
TZOFFSETTO:+0200
TZNAME:CEST
END:DAYLIGHT
END:VTIMEZONE
END:VCALENDAR