BEGIN:VCALENDAR
VERSION:2.0
PRODID:-//wp-events-plugin.com//7.2.3.1//EN
TZID:Europe/Paris
X-WR-TIMEZONE:Europe/Paris
BEGIN:VEVENT
UID:8064@paroissemaromme.fr
DTSTART;TZID=Europe/Paris:20230924T103000
DTEND;TZID=Europe/Paris:20230924T103000
DTSTAMP:20230827T164055Z
URL:https://paroissemaromme.fr/events/profession-de-foi-des-jeunes/
SUMMARY:Profession de foi des jeunes
DESCRIPTION:
CATEGORIES:aumonerie,caté,évènements
LOCATION:St Martin de Maromme\, 19 rue de l'église\, Maromme\, 76150\, Fra
 nce
GEO:49.48090639999999;1.043160299999954
X-APPLE-STRUCTURED-LOCATION;VALUE=URI;X-ADDRESS=19 rue de l'église\, Marom
 me\, 76150\, France;X-APPLE-RADIUS=100;X-TITLE=St Martin de Maromme:geo:49
 .48090639999999,1.043160299999954
END:VEVENT
BEGIN:VTIMEZONE
TZID:Europe/Paris
X-LIC-LOCATION:Europe/Paris
BEGIN:DAYLIGHT
DTSTART:20230326T030000
TZOFFSETFROM:+0100
TZOFFSETTO:+0200
TZNAME:CEST
END:DAYLIGHT
END:VTIMEZONE
END:VCALENDAR