BEGIN:VCALENDAR
VERSION:2.0
PRODID:-//wp-events-plugin.com//7.2.3.1//EN
TZID:Europe/Paris
X-WR-TIMEZONE:Europe/Paris
BEGIN:VEVENT
UID:8480@paroissemaromme.fr
DTSTART;TZID=Europe/Paris;VALUE=DATE:20240414
DTEND;TZID=Europe/Paris;VALUE=DATE:20240415
DTSTAMP:20240324T185654Z
URL:https://paroissemaromme.fr/events/pelerinage-paroissial-a-montmartre/
SUMMARY:Pèlerinage paroissial à Montmartre
DESCRIPTION:
CATEGORIES:évènements
END:VEVENT
BEGIN:VTIMEZONE
TZID:Europe/Paris
X-LIC-LOCATION:Europe/Paris
BEGIN:DAYLIGHT
DTSTART:20240331T030000
TZOFFSETFROM:+0100
TZOFFSETTO:+0200
TZNAME:CEST
END:DAYLIGHT
END:VTIMEZONE
END:VCALENDAR