BEGIN:VCALENDAR
VERSION:2.0
PRODID:-//wp-events-plugin.com//7.2.3.1//EN
TZID:Europe/Paris
X-WR-TIMEZONE:Europe/Paris
BEGIN:VEVENT
UID:8219@paroissemaromme.fr
DTSTART;TZID=Europe/Paris:20240101T103000
DTEND;TZID=Europe/Paris:20240101T103000
DTSTAMP:20231225T154340Z
URL:https://paroissemaromme.fr/events/messe-pour-la-paix/
SUMMARY:Messe pour la Paix
DESCRIPTION:
CATEGORIES:cté lamaine,évènements,messe
LOCATION:Chapelle Sainte Croix\, La Maine\, 62 ter route de Duclair\, Marom
 me\, France
GEO:49.48126999999999;1.0209069
X-APPLE-STRUCTURED-LOCATION;VALUE=URI;X-ADDRESS=62 ter route de Duclair\, M
 aromme\, France;X-APPLE-RADIUS=100;X-TITLE=Chapelle Sainte Croix\, La Main
 e:geo:49.48126999999999,1.0209069
END:VEVENT
BEGIN:VTIMEZONE
TZID:Europe/Paris
X-LIC-LOCATION:Europe/Paris
BEGIN:STANDARD
DTSTART:20231029T020000
TZOFFSETFROM:+0200
TZOFFSETTO:+0100
TZNAME:CET
END:STANDARD
END:VTIMEZONE
END:VCALENDAR