BEGIN:VCALENDAR
VERSION:2.0
PRODID:-//wp-events-plugin.com//7.2.3.1//EN
TZID:Europe/Paris
X-WR-TIMEZONE:Europe/Paris
BEGIN:VEVENT
UID:8547@paroissemaromme.fr
DTSTART;TZID=Europe/Paris:20240720T150000
DTEND;TZID=Europe/Paris:20240720T150000
DTSTAMP:20240706T073723Z
URL:https://paroissemaromme.fr/events/gouter-de-la-communaute-locale-jardi
 n-du-presbytere/
SUMMARY:Gouter de la communauté locale\, jardin du presbytère
DESCRIPTION:
CATEGORIES:cté déville
END:VEVENT
BEGIN:VTIMEZONE
TZID:Europe/Paris
X-LIC-LOCATION:Europe/Paris
BEGIN:DAYLIGHT
DTSTART:20240331T030000
TZOFFSETFROM:+0100
TZOFFSETTO:+0200
TZNAME:CEST
END:DAYLIGHT
END:VTIMEZONE
END:VCALENDAR