BEGIN:VCALENDAR
VERSION:2.0
PRODID:-//wp-events-plugin.com//7.2.3.1//EN
TZID:Europe/Paris
X-WR-TIMEZONE:Europe/Paris
BEGIN:VEVENT
UID:8360@paroissemaromme.fr
DTSTART;TZID=Europe/Paris:20240217T123000
DTEND;TZID=Europe/Paris:20240217T123000
DTSTAMP:20240209T193718Z
URL:https://paroissemaromme.fr/events/appel-decisif-des-jeunes-2/
SUMMARY:Appel décisif des jeunes
DESCRIPTION:
CATEGORIES:aumonerie,évènements
LOCATION:église Jeanne d'Arc\, place du vieux marché\, Rouen\, France
GEO:49.4432868;1.088323800000012
X-APPLE-STRUCTURED-LOCATION;VALUE=URI;X-ADDRESS=place du vieux marché\, Ro
 uen\, France;X-APPLE-RADIUS=100;X-TITLE=église Jeanne d'Arc:geo:49.443286
 8,1.088323800000012
END:VEVENT
BEGIN:VTIMEZONE
TZID:Europe/Paris
X-LIC-LOCATION:Europe/Paris
BEGIN:STANDARD
DTSTART:20231029T020000
TZOFFSETFROM:+0200
TZOFFSETTO:+0100
TZNAME:CET
END:STANDARD
END:VTIMEZONE
END:VCALENDAR