BEGIN:VCALENDAR
VERSION:2.0
PRODID:-//wp-events-plugin.com//7.2.3.1//EN
TZID:Europe/Paris
X-WR-TIMEZONE:Europe/Paris
BEGIN:VEVENT
UID:8361@paroissemaromme.fr
DTSTART;TZID=Europe/Paris:20240218T160000
DTEND;TZID=Europe/Paris:20240218T160000
DTSTAMP:20240209T193803Z
URL:https://paroissemaromme.fr/events/appel-decisif-des-catechumenes-adult
 es/
SUMMARY:Appel décisif des catéchumènes adultes
DESCRIPTION:
CATEGORIES:évènements
LOCATION:cathédrale\, place de la cathédrale\, Rouen\, France
GEO:49.44030679999999;1.09382729999993
X-APPLE-STRUCTURED-LOCATION;VALUE=URI;X-ADDRESS=place de la cathédrale\, R
 ouen\, France;X-APPLE-RADIUS=100;X-TITLE=cathédrale:geo:49.44030679999999
 ,1.09382729999993
END:VEVENT
BEGIN:VTIMEZONE
TZID:Europe/Paris
X-LIC-LOCATION:Europe/Paris
BEGIN:STANDARD
DTSTART:20231029T020000
TZOFFSETFROM:+0200
TZOFFSETTO:+0100
TZNAME:CET
END:STANDARD
END:VTIMEZONE
END:VCALENDAR